BEGIN:VCALENDAR
VERSION:2.0
PRODID:-//BSI Corporate Benefits - ECPv6.15.11//NONSGML v1.0//EN
CALSCALE:GREGORIAN
METHOD:PUBLISH
X-WR-CALNAME:BSI Corporate Benefits
X-ORIGINAL-URL:https://bsicorporate.com
X-WR-CALDESC:Events for BSI Corporate Benefits
REFRESH-INTERVAL;VALUE=DURATION:PT1H
X-Robots-Tag:noindex
X-PUBLISHED-TTL:PT1H
BEGIN:VTIMEZONE
TZID:America/New_York
BEGIN:DAYLIGHT
TZOFFSETFROM:-0500
TZOFFSETTO:-0400
TZNAME:EDT
DTSTART:20250309T070000
END:DAYLIGHT
BEGIN:STANDARD
TZOFFSETFROM:-0400
TZOFFSETTO:-0500
TZNAME:EST
DTSTART:20251102T060000
END:STANDARD
BEGIN:DAYLIGHT
TZOFFSETFROM:-0500
TZOFFSETTO:-0400
TZNAME:EDT
DTSTART:20260308T070000
END:DAYLIGHT
BEGIN:STANDARD
TZOFFSETFROM:-0400
TZOFFSETTO:-0500
TZNAME:EST
DTSTART:20261101T060000
END:STANDARD
BEGIN:DAYLIGHT
TZOFFSETFROM:-0500
TZOFFSETTO:-0400
TZNAME:EDT
DTSTART:20270314T070000
END:DAYLIGHT
BEGIN:STANDARD
TZOFFSETFROM:-0400
TZOFFSETTO:-0500
TZNAME:EST
DTSTART:20271107T060000
END:STANDARD
END:VTIMEZONE
BEGIN:VEVENT
DTSTART;TZID=America/New_York:20260128T120000
DTEND;TZID=America/New_York:20260128T130000
DTSTAMP:20260421T130009
CREATED:20251215T161512Z
LAST-MODIFIED:20260121T164106Z
UID:10000021-1769601600-1769605200@bsicorporate.com
SUMMARY:Post–Open Enrollment & New Plan Year Compliance: The Hidden Risks Employers Miss
DESCRIPTION:Description: \nMost employers assume that once open enrollment ends\, the heavy lift is behind them. The reality is the highest compliance and financial risk actually occurs in the first 60–90 days of a new plan year. Misclassified employees\, overlooked ALE status\, late notices\, or other early-year oversights can trigger costly fines\, employee disputes\, or unexpected ACA-related budget impacts. \nIn this session\, we will challenge the traditional view of “OE as the finish line” and show why early-year oversight can cascade into compliance and financial issues if left unmanaged. We’ll unpack the blind spots even seasoned HR and finance teams often miss and introduce a proactive framework that keeps organizations ahead of regulatory requirements and budget surprises. \nWhat you’ll learn: \n\nThe Importance of Taking Stock and Learning from Mistakes\nGood Compliance Hygiene After Open Enrollment is Done\nCatching Problems Early and Averting Disasters Before They Happen\nDocumentation\, Recordkeeping\, and Planning for the Worst\nUpdating SPDs and Furnishing Post-enrollment Notices\nLooking Ahead and Upcoming Deadlines\n\nWalk away with a sharper understanding of the true compliance risk cycle\, how it intersects with ACA financial exposure\, and a clear\, guided roadmap to confidently navigate the new plan year. \n  \nSpeaker: \nTom Seltz \n\nCompliance Consultant\, Benefits Compliance Solutions (BCS)\n\nTom brings over 30 years of experience in health and welfare benefits and compliance\, with expertise in ERISA\, the Affordable Care Act\, HIPAA\, COBRA\, and more. His career has included work as a Legislative Specialist for a national health insurer\, a Technical Analyst for a leading disability carrier\, and 8 years as Life & Health Producer in Washington\, DC. For over a decade prior to joining BCS\, he built and oversaw a health & welfare regulatory compliance practice at a large and rapidly growing insurance brokerage. Tom is known for simplifying the complex and making the inscrutable clear. With patience\, good humor\, and a teacher’s mindset\, he helps brokers and employers break down problems into solvable units\, building lasting relationships along the way. Married and the father of two\, Tom is also an amateur playwright\, mixologist\, musician\, and avid film-goer. He loves travel\, good food\, and making friends.
URL:https://bsicorporate.com/event/post-open-enrollment-new-plan-year-compliance-the-hidden-risks-employers-miss/
ATTACH;FMTTYPE=image/png:https://bsicorporate.com/wp-content/uploads/2025/12/WEBINAR-2.png
LOCATION:https://us02web.zoom.us/webinar/register/9517676341761/WN_oLxBK0tDSiaISMwlPTP7zA
END:VEVENT
END:VCALENDAR